Workbook

Sheet Contents
A1: Country | B1: Region | C1: Sub-region | D1: Producer
A2: ENGLAND | D2: Charles Palmer | E2: =HYPERLINK((("#Main_Tariff!A"&MATCH("*"&LEFT(D2,15)&"*",Main_Tariff!A:A,0))),"Jump to Producer") -> Jump to Producer
A3: FRANCE | B3: Champagne | D3: André Beaufort | E3: =HYPERLINK("#Main_Tariff!A"&MATCH("*"&LEFT(D3,15)&"*",Main_Tariff!A:A,0),"Jump to Producer") -> Jump to Producer
A4: FRANCE | B4: Champagne | D4: Albert Beerens | E4: =HYPERLINK("#Main_Tariff!A"&MATCH("*"&LEFT(D4,15)&"*",Main_Tariff!A:A,0),"Jump to Producer") -> Jump to Producer
A5: FRANCE | B5: Champagne | D5: Champagne Augustin Coeurviticulture | E5: =HYPERLINK("#Main_Tariff!A"&MATCH("*"&LEFT(D5,15)&"*",Main_Tariff!A:A,0),"Jump to Producer") -> Jump to Producer
A6: FRANCE | B6: Champagne | D6: Henri Billiot by Laetitia Billiot | E6: =HYPERLINK("#Main_Tariff!A"&MATCH("*"&LEFT(D6,10)&"*",Main_Tariff!A:A,0),"Jump to Producer") -> Jump to Producer
A7: FRANCE | B7: Champagne | D7: Benoit Dehu | E7: =HYPERLINK((("#Main_Tariff!A"&MATCH("Dehu, Benoit",Main_Tariff!A:A,0))),"Jump to Producer") -> Jump to Producer
A8: FRANCE | B8: Champagne | D8: Gonet-Sulcova | E8: =HYPERLINK("#Main_Tariff!A"&MATCH("*"&LEFT(D8,15)&"*",Main_Tariff!A:A,0),"Jump to Producer") -> Jump to Producer
A9: FRANCE | B9: Champagne | D9: Gyejacquot | E9: =HYPERLINK("#Main_Tariff!A"&MATCH("*"&LEFT(D9,15)&"*",Main_Tariff!A:A,0),"Jump to Producer") -> Jump to Producer
A10: FRANCE | B10: Champagne | D10: David Leclapart | E10: =HYPERLINK("#Main_Tariff!A"&MATCH("*"&LEFT(D10,15)&"*",Main_Tariff!A:A,0),"Jump to Producer") -> Jump to Producer
A11: FRANCE | B11: Champagne | D11: Lilbert & Fils | E11: =HYPERLINK("#Main_Tariff!A"&MATCH("*"&LEFT(D11,15)&"*",Main_Tariff!A:A,0),"Jump to Producer") -> Jump to Producer
A12: FRANCE | B12: Champagne | D12: La Parcelle, Chevreaux-Bournazel | E12: =HYPERLINK("#Main_Tariff!A"&MATCH("*"&LEFT(D12,15)&"*",Main_Tariff!A:A,0),"Jump to Producer") -> Jump to Producer
A13: FRANCE | B13: Champagne | D13: Les Vertus d'Elise by Cedric Guyot | E13: =HYPERLINK("#Main_Tariff!A"&MATCH("*"&LEFT(D13,10)&"*",Main_Tariff!A:A,0),"Jump to Producer") -> Jump to Producer
A14: FRANCE | B14: Champagne | D14: Clos Lanson | E14: =HYPERLINK("#Main_Tariff!A"&MATCH("*"&LEFT(D14,15)&"*",Main_Tariff!A:A,0),"Jump to Producer") -> Jump to Producer
A15: FRANCE | B15: Alsace | D15: Kirrenbourg (ex Martin Schaetzel) | E15: =HYPERLINK("#Main_Tariff!A"&MATCH("*"&LEFT(D15,10)&"*",Main_Tariff!A:A,0),"Jump to Producer") -> Jump to Producer
A16: FRANCE | B16: Bordeaux - Right Bank | D16: Bordeaux Blanc Focus | E16: {=HYPERLINK((("#Main_Tariff!B"&MATCH("*"&"Bordeaux Blanc Sec with volume"&"*",Main_Tariff!B:B,0))),"Jump to Section")} -> Jump to Section
A17: FRANCE | B17: Bordeaux - Right Bank | C17: Pomerol | D17: Clinet | E17: =HYPERLINK("#Main_Tariff!A"&MATCH("*"&LEFT(D17,15)&"*",Main_Tariff!A:A,0),"Jump to Producer") -> Jump to Producer
A18: FRANCE | B18: Bordeaux - Right Bank | C18: Pomerol | D18: Clos de la Vieille École | E18: =HYPERLINK("#Main_Tariff!A"&MATCH("*"&LEFT(D18,15)&"*",Main_Tariff!A:A,0),"Jump to Producer") -> Jump to Producer
A19: FRANCE | B19: Bordeaux - Right Bank | C19: Pomerol | D19: Clos du Clocher | E19: =HYPERLINK("#Main_Tariff!A"&MATCH("*"&LEFT(D19,15)&"*",Main_Tariff!A:A,0),"Jump to Producer") -> Jump to Producer
A20: FRANCE | B20: Bordeaux - Right Bank | C20: Pomerol | D20: La Conseillante | E20: =HYPERLINK("#Main_Tariff!A"&MATCH("*"&LEFT(D20,15)&"*",Main_Tariff!A:A,0),"Jump to Producer") -> Jump to Producer
A21: FRANCE | B21: Bordeaux - Right Bank | C21: Pomerol | D21: L'Eglise-Clinet | E21: {=HYPERLINK((("#Main_Tariff!A"&MATCH("*"&MID(D21,3,9)&"*",Main_Tariff!A:A,0))),"Jump to Producer")} -> Jump to Producer
A22: FRANCE | B22: Bordeaux - Right Bank | C22: Pomerol | D22: L'Evangile | E22: =HYPERLINK("#Main_Tariff!A"&MATCH("*"&LEFT(D22,15)&"*",Main_Tariff!A:A,0),"Jump to Producer") -> Jump to Producer
A23: FRANCE | B23: Bordeaux - Right Bank | C23: Pomerol | D23: Feytit-Clinet | E23: =HYPERLINK("#Main_Tariff!A"&MATCH("*"&LEFT(D23,15)&"*",Main_Tariff!A:A,0),"Jump to Producer") -> Jump to Producer
A24: FRANCE | B24: Bordeaux - Right Bank | C24: Pomerol | D24: La Fleur-Petrus | E24: {=HYPERLINK((("#Main_Tariff!A"&MATCH("*"&MID(D24,4,9)&"*",Main_Tariff!A:A,0))),"Jump to Producer")} -> Jump to Producer
A25: FRANCE | B25: Bordeaux - Right Bank | C25: Pomerol | D25: Guillot-Clauzel | E25: =HYPERLINK("#Main_Tariff!A"&MATCH("*"&LEFT(D25,15)&"*",Main_Tariff!A:A,0),"Jump to Producer") -> Jump to Producer
A26: FRANCE | B26: Bordeaux - Right Bank | C26: Pomerol | D26: Mayne-Réné | E26: =HYPERLINK("#Main_Tariff!A"&MATCH("*"&LEFT(D26,15)&"*",Main_Tariff!A:A,0),"Jump to Producer") -> Jump to Producer
A27: FRANCE | B27: Bordeaux - Right Bank | C27: Pomerol | D27: Lafleur | E27: =HYPERLINK("#Main_Tariff!A"&MATCH("*"&LEFT(D27,15)&",*",Main_Tariff!A:A,0),"Jump to Producer") -> Jump to Producer
A28: FRANCE | B28: Bordeaux - Right Bank | C28: Pomerol | D28: Latour a Pomerol | E28: =HYPERLINK("#Main_Tariff!A"&MATCH("*"&LEFT(D28,15)&"*",Main_Tariff!A:A,0),"Jump to Producer") -> Jump to Producer
A29: FRANCE | B29: Bordeaux - Right Bank | C29: Pomerol | D29: Le Pin | E29: =HYPERLINK("#Main_Tariff!A"&MATCH("*"&LEFT(D29,15)&",*",Main_Tariff!A:A,0),"Jump to Producer") -> Jump to Producer
A30: FRANCE | B30: Bordeaux - Right Bank | C30: Pomerol | D30: Trotanoy | E30: {=HYPERLINK((("#Main_Tariff!A"&MATCH(LEFT(D30,10)&"*",Main_Tariff!A:A,0))),"Jump to Producer")} -> Jump to Producer
A31: FRANCE | B31: Bordeaux - Right Bank | C31: Pomerol | D31: Vieux Chateau Certan | E31: =HYPERLINK("#Main_Tariff!A"&MATCH("*"&LEFT(D31,15)&"*",Main_Tariff!A:A,0),"Jump to Producer") -> Jump to Producer
A32: FRANCE | B32: Bordeaux - Right Bank | C32: Pomerol | D32: La Violette | E32: =HYPERLINK("#Main_Tariff!A"&MATCH("*"&LEFT(D32,15)&"*",Main_Tariff!A:A,0),"Jump to Producer") -> Jump to Producer
A33: FRANCE | B33: Bordeaux - Right Bank | C33: Pomerol | D33: Vray Croix de Gay | E33: =HYPERLINK("#Main_Tariff!A"&MATCH("*"&LEFT(D33,15)&"*",Main_Tariff!A:A,0),"Jump to Producer") -> Jump to Producer
A34: FRANCE | B34: Bordeaux - Right Bank | C34: St Emilion | D34: Angelus | E34: =HYPERLINK("#Main_Tariff!A"&MATCH("*"&LEFT(D34,15)&"*",Main_Tariff!A:A,0),"Jump to Producer") -> Jump to Producer
A35: FRANCE | B35: Bordeaux - Right Bank | C35: St Emilion | D35: Ausone | E35: =HYPERLINK("#Main_Tariff!A"&MATCH("*"&LEFT(D35,15)&"*",Main_Tariff!A:A,0),"Jump to Producer") -> Jump to Producer
A36: FRANCE | B36: Bordeaux - Right Bank | C36: St Emilion | D36: Beau-Séjour Bécot | E36: =HYPERLINK("#Main_Tariff!A"&MATCH("*"&LEFT(D36,15)&"*",Main_Tariff!A:A,0),"Jump to Producer") -> Jump to Producer
A37: FRANCE | B37: Bordeaux - Right Bank | C37: St Emilion | D37: Beauséjour (Duffau-Lagarrosse) | E37: {=HYPERLINK((("#Main_Tariff!A"&MATCH("*"&MID(D37,13,10)&"*",Main_Tariff!A:A,0))),"Jump to Producer")} -> Jump to Producer
A38: FRANCE | B38: Bordeaux - Right Bank | C38: St Emilion | D38: Belair-Monange | E38: =HYPERLINK("#Main_Tariff!A"&MATCH("*"&LEFT(D38,15)&"*",Main_Tariff!A:A,0),"Jump to Producer") -> Jump to Producer
A39: FRANCE | B39: Bordeaux - Right Bank | C39: St Emilion | D39: Berliquet | E39: =HYPERLINK("#Main_Tariff!A"&MATCH("*"&LEFT(D39,15)&"*",Main_Tariff!A:A,0),"Jump to Producer") -> Jump to Producer
A40: FRANCE | B40: Bordeaux - Right Bank | C40: St Emilion | D40: Canon | E40: =HYPERLINK("#Main_Tariff!A"&MATCH("*"&LEFT(D40,15)&"*",Main_Tariff!A:A,0),"Jump to Producer") -> Jump to Producer
...

Sheet Main_Tariff
B1: Raeburn Fine Wines | F1: November 25 version
B2: Shippers and Wholesalers of Fine Wine - WEB Tariff | I2: Product Code
A4: Quote: | B4: Basics: | D4: Key:
A5: Eve Balfour, at the 1st IFOAM conference | B5: Prices are DPD per unit, ex-VAT, including delivery/transfer. | C5: VAULTS = only in Edinburgh
A6: of 1977 re agricultural ambition, quoting | B6: Min. order 2cases for free delivery within M25, ex-LCB Tilbury. | C6: f = fortified
A7: Aldo Leopold's book, with which we agree: | B7: Min. order 2cases for free delivery to all UK, ex-Edinburgh. | C7: sp = sparkling
B8: Min. order for free UK delivery on application, ex-LCB Tilbury. | C8: o = orange
A9: '…we cannot escape from the ethical and | B9: 10 cse rate, IB and ex-cellars prices upon request. | C9: p = pink
A10: spiritual values of life, for they are part of | B10: A 'case' is 9litres, i.e. 12 BTLS, 24 HVS, 6 MAGS, 3 DBL MAGS | C10: r = red
A11: the wholeness."A thing is right when it | B11: Cases can be mixed. | C11: w = white
A12: tends to preserve the integrity,stability | B12: Prices include UK duty at prevailing rate when issued. (Not E.P.) | C12: sw = sweet
A13: and beauty of the biotic community. It | B13: Size is updated as: unit size in cl / number units per pack. | C13: GG = Grosses Gewächs
A14: is wrong when it tends otherwise." | B14: Our main tariffs are agency, main, en primeur, etc. | C14: GL = VDP Grosse Lage
A15: That quotation expresses what I | B15: Subject to Terms & Conditions, as per the last page of this list. | C15: 1C = Premier Cru
A16: believe should be our guidelines.' | B16: All wines are offered subject to availability. | C16: GC = Grand Cru
B17: This list cancels all previous lists. E&OE
B18: Contact details:
A19: LONDON OFFICE | B19: www.raeburnfinewines.com | C19: ROLES:
A20: David Harvey | 07977 939 680 | B20: david@raeburnfinewines.com | C20: Trade sales. Wine advice. Buying
A21: Richard Rotti | 07952 052 606 | B21: rr@raeburnfinewines.com | C21: Trade sales. Wine advice.
A22: Liam Colucci | 07903 330 457 | B22: liam@raeburnfinewines.com | C22: Trade sales. Wine advice.
A23: Julia Sewell | 07836 682 442 | B23: julia@raeburnfinewines.com | C23: London Office. List. Sake
A25: EDINBURGH HEAD OFFICE | B25: www.raeburnfinewines.com
A26: General contact | 0131 343 1159 | B26: sales@raeburnfinewines.com | C26: Orders. Enquiries.
A27: Ben Fawcett | 07747 638 728 | B27: ben@raeburnfinewines.com | C27: Scotland trade sales
A28: Murray McDougal | 07817 073 633 | B28: murray@raeburnfinewines.com | C28: Scotland trade sales
A29: Liliana Angelo | 0131 343 1159 | B29: lily@raeburnfinewines.com | C29: Office administrator.
A30: Humair Mahmud | 0131 343 1159 | B30: humair@raeburnfinewines.com | C30: Orders desk. Accounts.
A31: Zubair Mohamed | 0131 343 1159 | B31: zubair@raeburnfinewines.com | C31: Director. Buyer. Wine advice.
A32: Taher Mahmud | B32: taher@raeburnfinewines.com | C32: Director. Accounts.
B33: Introduction to Raeburn, 2025:
A34: Our clients:
A37: Raeburn Fine Wines:
A40: The Raeburn tariffs:
A43: List searchability:
B46: Introduction, (continued):
A47: The list in names:
A49: The list in numbers (A-Z):
A52: 'Running Wines' & 'Special Attributes':
A55: A note on agricultural nomenclature:
...

Sheet Plain_Tariff
A1: PRODUCER | B1: PRODUCER NAME | C1: Wine | D1: Type | E1: Year | F1: Vol. (cl) | G1: Trade £DPD | H1: Stock Status | I1: Product Code | J1: COUNTRY | K1: REGION | L1: SUB-REGION | M1: Class. | N1: Organic? | O1: Case Size | P1: ABV %
A2: Charles Palmer | B2: =HYPERLINK(IFERROR("#Main_Tariff!A"&MATCH(Raeburn_Main_Tariff[[#This Row],[Product Code]],Main_Tariff!I:I,0),"#Main_Tariff!A"&MATCH("*"&RIGHT(A2,8)&"*",Main_Tariff!A:A,0)),Raeburn_Main_Tariff[[#This Row],[PRODUCER]]) -> Charles Palmer | C2: Charles Palmer rosé brut | D2: sp.p | E2: 2017 | F2: 75 | G2: 31 | I2: 25CPALMER02 | J2: England | K2: East Sussex | O2: 6 | P2: 12
A3: Charles Palmer | B3: =HYPERLINK(IFERROR("#Main_Tariff!A"&MATCH(Raeburn_Main_Tariff[[#This Row],[Product Code]],Main_Tariff!I:I,0),"#Main_Tariff!A"&MATCH("*"&RIGHT(A3,8)&"*",Main_Tariff!A:A,0)),Raeburn_Main_Tariff[[#This Row],[PRODUCER]]) -> Charles Palmer | C3: Charles Palmer classic cuvée brut | D3: sp | E3: 2017 | F3: 75 | G3: 30.5 | I3: 23CPALMER01 | J3: England | K3: East Sussex | O3: 6 | P3: 12
A4: Charles Palmer | B4: =HYPERLINK(IFERROR("#Main_Tariff!A"&MATCH(Raeburn_Main_Tariff[[#This Row],[Product Code]],Main_Tariff!I:I,0),"#Main_Tariff!A"&MATCH("*"&RIGHT(A4,8)&"*",Main_Tariff!A:A,0)),Raeburn_Main_Tariff[[#This Row],[PRODUCER]]) -> Charles Palmer | C4: Charles Palmer classic cuvée brut | D4: sp | E4: 2016 | F4: 75 | G4: 29 | H4: VAULTS <24 | I4: 22CPALMER01 | J4: England | K4: East Sussex | O4: 6 | P4: 12
A5: Charles Palmer | B5: =HYPERLINK(IFERROR("#Main_Tariff!A"&MATCH(Raeburn_Main_Tariff[[#This Row],[Product Code]],Main_Tariff!I:I,0),"#Main_Tariff!A"&MATCH("*"&RIGHT(A5,8)&"*",Main_Tariff!A:A,0)),Raeburn_Main_Tariff[[#This Row],[PRODUCER]]) -> Charles Palmer | C5: Charles Palmer blanc de blancs brut | D5: sp | E5: 2016 | F5: 75 | G5: 31.5 | I5: 22CPALMER02 | J5: England | K5: East Sussex | O5: 6 | P5: 12
A6: Charles Palmer | B6: =HYPERLINK(IFERROR("#Main_Tariff!A"&MATCH(Raeburn_Main_Tariff[[#This Row],[Product Code]],Main_Tariff!I:I,0),"#Main_Tariff!A"&MATCH("*"&RIGHT(A6,8)&"*",Main_Tariff!A:A,0)),Raeburn_Main_Tariff[[#This Row],[PRODUCER]]) -> Charles Palmer | C6: Charles Palmer special reserve blanc de pinot noir brut | D6: sp | E6: 2013 | F6: 75 | G6: 39.5 | I6: 19CPALMER04 | J6: England | K6: East Sussex | O6: 6 | P6: 12
A7: Charles Palmer | B7: =HYPERLINK(IFERROR("#Main_Tariff!A"&MATCH(Raeburn_Main_Tariff[[#This Row],[Product Code]],Main_Tariff!I:I,0),"#Main_Tariff!A"&MATCH("*"&RIGHT(A7,8)&"*",Main_Tariff!A:A,0)),Raeburn_Main_Tariff[[#This Row],[PRODUCER]]) -> Charles Palmer | C7: Charles Palmer special reserve blanc de pinot noir brut | D7: sp | E7: 2017 | F7: 75 | G7: 31.95 | I7: 25CPALMER01 | J7: England | K7: East Sussex | O7: 6 | P7: 12
A8: Charles Palmer | B8: =HYPERLINK(IFERROR("#Main_Tariff!A"&MATCH(Raeburn_Main_Tariff[[#This Row],[Product Code]],Main_Tariff!I:I,0),"#Main_Tariff!A"&MATCH("*"&RIGHT(A8,8)&"*",Main_Tariff!A:A,0)),Raeburn_Main_Tariff[[#This Row],[PRODUCER]]) -> Charles Palmer | C8: Charles Palmer pinot noir | D8: r | E8: 2020 | F8: 75 | G8: 24.5 | I8: 23CPALMER02 | J8: England | K8: East Sussex | O8: 6 | P8: 11
A9: André Beaufort | B9: =HYPERLINK(IFERROR("#Main_Tariff!A"&MATCH(Raeburn_Main_Tariff[[#This Row],[Product Code]],Main_Tariff!I:I,0),"#Main_Tariff!A"&MATCH("*"&RIGHT(A9,8)&"*",Main_Tariff!A:A,0)),Raeburn_Main_Tariff[[#This Row],[PRODUCER]]) -> André Beaufort | C9: Champagne Polisy | D9: sp | E9: 2000 | F9: 75 | G9: 78.5 | H9: <24 | I9: 11ABFORT07 | J9: France | K9: Champagne | L9: Polisy | O9: 6 | P9: 13
A10: André Beaufort | B10: =HYPERLINK(IFERROR("#Main_Tariff!A"&MATCH(Raeburn_Main_Tariff[[#This Row],[Product Code]],Main_Tariff!I:I,0),"#Main_Tariff!A"&MATCH("*"&RIGHT(A10,8)&"*",Main_Tariff!A:A,0)),Raeburn_Main_Tariff[[#This Row],[PRODUCER]]) -> André Beaufort | C10: Champagne Polisy | D10: sp | E10: 1999 | F10: 75 | G10: 85 | H10: <24 | I10: 11ABFORT17 | J10: France | K10: Champagne | L10: Polisy | O10: 6 | P10: 13
A11: André Beaufort | B11: =HYPERLINK(IFERROR("#Main_Tariff!A"&MATCH(Raeburn_Main_Tariff[[#This Row],[Product Code]],Main_Tariff!I:I,0),"#Main_Tariff!A"&MATCH("*"&RIGHT(A11,8)&"*",Main_Tariff!A:A,0)),Raeburn_Main_Tariff[[#This Row],[PRODUCER]]) -> André Beaufort | C11: Champagne Ambonnay blanc de blanc GC | D11: sp | E11: 2011 | F11: 75 | G11: 99.5 | I11: 18ABFORT11 | J11: France | K11: Champagne | L11: Ambonnay | M11: GC | O11: 6 | P11: 12
A12: André Beaufort | B12: =HYPERLINK(IFERROR("#Main_Tariff!A"&MATCH(Raeburn_Main_Tariff[[#This Row],[Product Code]],Main_Tariff!I:I,0),"#Main_Tariff!A"&MATCH("*"&RIGHT(A12,8)&"*",Main_Tariff!A:A,0)),Raeburn_Main_Tariff[[#This Row],[PRODUCER]]) -> André Beaufort | C12: Champagne Les Clos d'Ambonnay GC | D12: sp | E12: 2010 | F12: 75 | G12: 99.5 | H12: <24 | I12: 18ABFORT05 | J12: France | K12: Champagne | L12: Ambonnay | M12: GC | O12: 6 | P12: 12
A13: André Beaufort | B13: =HYPERLINK(IFERROR("#Main_Tariff!A"&MATCH(Raeburn_Main_Tariff[[#This Row],[Product Code]],Main_Tariff!I:I,0),"#Main_Tariff!A"&MATCH("*"&RIGHT(A13,8)&"*",Main_Tariff!A:A,0)),Raeburn_Main_Tariff[[#This Row],[PRODUCER]]) -> André Beaufort | C13: Champagne Ambonnay GC | D13: sp | E13: 2010 | F13: 75 | G13: 99.5 | I13: 18ABFORT06 | J13: France | K13: Champagne | L13: Ambonnay | M13: GC | O13: 6 | P13: 12
A14: André Beaufort | B14: =HYPERLINK(IFERROR("#Main_Tariff!A"&MATCH(Raeburn_Main_Tariff[[#This Row],[Product Code]],Main_Tariff!I:I,0),"#Main_Tariff!A"&MATCH("*"&RIGHT(A14,8)&"*",Main_Tariff!A:A,0)),Raeburn_Main_Tariff[[#This Row],[PRODUCER]]) -> André Beaufort | C14: Champagne Ambonnay GC | D14: sp | E14: 2005 | F14: 75 | G14: 86 | H14: <24 | I14: 18ABFORT03 | J14: France | K14: Champagne | L14: Ambonnay | M14: GC | O14: 6 | P14: 12
A15: Albert Beerens | B15: =HYPERLINK(IFERROR("#Main_Tariff!A"&MATCH(Raeburn_Main_Tariff[[#This Row],[Product Code]],Main_Tariff!I:I,0),"#Main_Tariff!A"&MATCH("*"&RIGHT(A15,8)&"*",Main_Tariff!A:A,0)),Raeburn_Main_Tariff[[#This Row],[PRODUCER]]) -> Albert Beerens | C15: Champagne Eternel rosé | D15: sp.p | E15: nv | F15: 75 | G15: 30.5 | I15: 19BEERENS03 | J15: France | K15: Champagne | L15: Ambonnay | O15: 6 | P15: 12
A16: Albert Beerens | B16: =HYPERLINK(IFERROR("#Main_Tariff!A"&MATCH(Raeburn_Main_Tariff[[#This Row],[Product Code]],Main_Tariff!I:I,0),"#Main_Tariff!A"&MATCH("*"&RIGHT(A16,8)&"*",Main_Tariff!A:A,0)),Raeburn_Main_Tariff[[#This Row],[PRODUCER]]) -> Albert Beerens | C16: Champagne blanc de noirs brut | D16: sp | E16: nv | F16: 75 | G16: 27 | I16: 23BEERENS01 | J16: France | K16: Champagne | L16: Ambonnay | O16: 6 | P16: 12
A17: Albert Beerens | B17: =HYPERLINK(IFERROR("#Main_Tariff!A"&MATCH(Raeburn_Main_Tariff[[#This Row],[Product Code]],Main_Tariff!I:I,0),"#Main_Tariff!A"&MATCH("*"&RIGHT(A17,8)&"*",Main_Tariff!A:A,0)),Raeburn_Main_Tariff[[#This Row],[PRODUCER]]) -> Albert Beerens | C17: Champagne brut nature | D17: sp | E17: nv | F17: 75 | G17: 29 | I17: 23BEERENS02 | J17: France | K17: Champagne | L17: Ambonnay | O17: 6 | P17: 12
A18: Albert Beerens | B18: =HYPERLINK(IFERROR("#Main_Tariff!A"&MATCH(Raeburn_Main_Tariff[[#This Row],[Product Code]],Main_Tariff!I:I,0),"#Main_Tariff!A"&MATCH("*"&RIGHT(A18,8)&"*",Main_Tariff!A:A,0)),Raeburn_Main_Tariff[[#This Row],[PRODUCER]]) -> Albert Beerens | C18: Champagne brut Signature | D18: sp | E18: nv | F18: 75 | G18: 42 | I18: 22BEERENS04 | J18: France | K18: Champagne | L18: Ambonnay | O18: 6 | P18: 12
A19: Albert Beerens | B19: =HYPERLINK(IFERROR("#Main_Tariff!A"&MATCH(Raeburn_Main_Tariff[[#This Row],[Product Code]],Main_Tariff!I:I,0),"#Main_Tariff!A"&MATCH("*"&RIGHT(A19,8)&"*",Main_Tariff!A:A,0)),Raeburn_Main_Tariff[[#This Row],[PRODUCER]]) -> Albert Beerens | C19: Champagne Prestige Millésimé | D19: sp | E19: 2013 | F19: 75 | G19: 46 | I19: 22BEERENS05 | J19: France | K19: Champagne | L19: Ambonnay | O19: 6 | P19: 12
A20: Albert Beerens | B20: =HYPERLINK(IFERROR("#Main_Tariff!A"&MATCH(Raeburn_Main_Tariff[[#This Row],[Product Code]],Main_Tariff!I:I,0),"#Main_Tariff!A"&MATCH("*"&RIGHT(A20,8)&"*",Main_Tariff!A:A,0)),Raeburn_Main_Tariff[[#This Row],[PRODUCER]]) -> Albert Beerens | C20: Champagne blanc de noirs brut MAGS | D20: sp | E20: nv | F20: 150 | G20: 57 | H20: <24 | I20: 22BEERENS01MG | J20: France | K20: Champagne | L20: Ambonnay | O20: 3 | P20: 12
A21: Champagne Augustin | B21: =HYPERLINK(IFERROR("#Main_Tariff!A"&MATCH(Raeburn_Main_Tariff[[#This Row],[Product Code]],Main_Tariff!I:I,0),"#Main_Tariff!A"&MATCH("*"&RIGHT(A21,8)&"*",Main_Tariff!A:A,0)),Raeburn_Main_Tariff[[#This Row],[PRODUCER]]) -> Champagne Augustin | C21: Champagne TERRE (disgorged Mar.2021) | D21: sp | E21: 'nv19' | F21: 75 | G21: 36 | I21: 22AUGUSTIN01 | J21: France | K21: Champagne | N21: Organic | O21: 6 | P21: 12
A22: Champagne Augustin | B22: =HYPERLINK(IFERROR("#Main_Tariff!A"&MATCH(Raeburn_Main_Tariff[[#This Row],[Product Code]],Main_Tariff!I:I,0),"#Main_Tariff!A"&MATCH("*"&RIGHT(A22,8)&"*",Main_Tariff!A:A,0)),Raeburn_Main_Tariff[[#This Row],[PRODUCER]]) -> Champagne Augustin | C22: Champagne FEU (vv - disgorged Mar.2021) | D22: sp | E22: nv | F22: 75 | G22: 44 | I22: 22AUGUSTIN03 | J22: France | K22: Champagne | N22: Organic | O22: 6 | P22: 12
A23: Champagne Augustin | B23: =HYPERLINK(IFERROR("#Main_Tariff!A"&MATCH(Raeburn_Main_Tariff[[#This Row],[Product Code]],Main_Tariff!I:I,0),"#Main_Tariff!A"&MATCH("*"&RIGHT(A23,8)&"*",Main_Tariff!A:A,0)),Raeburn_Main_Tariff[[#This Row],[PRODUCER]]) -> Champagne Augustin | C23: Champagne CXVI (aka 116 aka sans souffre - disgorged Mar.2020) | D23: sp | E23: 'nv16' | F23: 75 | G23: 57 | I23: 22AUGUSTIN02 | J23: France | K23: Champagne | O23: 6 | P23: 12
A24: Champagne Augustin | B24: =HYPERLINK(IFERROR("#Main_Tariff!A"&MATCH(Raeburn_Main_Tariff[[#This Row],[Product Code]],Main_Tariff!I:I,0),"#Main_Tariff!A"&MATCH("*"&RIGHT(A24,8)&"*",Main_Tariff!A:A,0)),Raeburn_Main_Tariff[[#This Row],[PRODUCER]]) -> Champagne Augustin | C24: Champagne O2 Rosée aka EAU (vv - disgorged Mar.2020) | D24: sp.p | E24: nv | F24: 75 | G24: 80 | I24: 22AUGUSTIN04 | J24: France | K24: Champagne | N24: Organic | O24: 6 | P24: 12
A25: Champagne Augustin | B25: =HYPERLINK(IFERROR("#Main_Tariff!A"&MATCH(Raeburn_Main_Tariff[[#This Row],[Product Code]],Main_Tariff!I:I,0),"#Main_Tariff!A"&MATCH("*"&RIGHT(A25,8)&"*",Main_Tariff!A:A,0)),Raeburn_Main_Tariff[[#This Row],[PRODUCER]]) -> Champagne Augustin | C25: Champagne Rosé Gaia (vv) | D25: sp.p | E25: nv | F25: 75 | G25: 97 | H25: <24 | I25: 22AUGUSTIN05 | J25: France | K25: Champagne | N25: Organic | O25: 3 | P25: 12
A26: Henri Billiot | B26: =HYPERLINK(IFERROR("#Main_Tariff!A"&MATCH(Raeburn_Main_Tariff[[#This Row],[Product Code]],Main_Tariff!I:I,0),"#Main_Tariff!A"&MATCH("*"&RIGHT(A26,8)&"*",Main_Tariff!A:A,0)),Raeburn_Main_Tariff[[#This Row],[PRODUCER]]) -> Henri Billiot | C26: Champagne rosé réserve | D26: sp.p | E26: nv | F26: 75 | G26: 31.5 | I26: 15BILLI01TB | J26: France | K26: Champagne | L26: Ambonnay | O26: 12 | P26: 12.5
A27: Henri Billiot | B27: =HYPERLINK(IFERROR("#Main_Tariff!A"&MATCH(Raeburn_Main_Tariff[[#This Row],[Product Code]],Main_Tariff!I:I,0),"#Main_Tariff!A"&MATCH("*"&RIGHT(A27,8)&"*",Main_Tariff!A:A,0)),Raeburn_Main_Tariff[[#This Row],[PRODUCER]]) -> Henri Billiot | C27: Champagne cuvée de réserve | D27: sp | E27: mv | F27: 75 | G27: 28 | I27: 22BILLI01 | J27: France | K27: Champagne | L27: Ambonnay | O27: 6 | P27: 12
A28: Henri Billiot | B28: =HYPERLINK(IFERROR("#Main_Tariff!A"&MATCH(Raeburn_Main_Tariff[[#This Row],[Product Code]],Main_Tariff!I:I,0),"#Main_Tariff!A"&MATCH("*"&RIGHT(A28,8)&"*",Main_Tariff!A:A,0)),Raeburn_Main_Tariff[[#This Row],[PRODUCER]]) -> Henri Billiot | C28: Champagne cuvée de réserve MAGS | D28: sp | F28: 150 | H28: OUT | I28: 22BILLI01MG | J28: France | K28: Champagne | L28: Ambonnay | O28: 3 | P28: 12
A29: Henri Billiot | B29: =HYPERLINK(IFERROR("#Main_Tariff!A"&MATCH(Raeburn_Main_Tariff[[#This Row],[Product Code]],Main_Tariff!I:I,0),"#Main_Tariff!A"&MATCH("*"&RIGHT(A29,8)&"*",Main_Tariff!A:A,0)),Raeburn_Main_Tariff[[#This Row],[PRODUCER]]) -> Henri Billiot | C29: Champagne millésimé | D29: sp | E29: 2014 | F29: 75 | G29: 40 | I29: 22BILLI02 | J29: France | K29: Champagne | L29: Ambonnay | O29: 6 | P29: 12.5
A30: Henri Billiot | B30: =HYPERLINK(IFERROR("#Main_Tariff!A"&MATCH(Raeburn_Main_Tariff[[#This Row],[Product Code]],Main_Tariff!I:I,0),"#Main_Tariff!A"&MATCH("*"&RIGHT(A30,8)&"*",Main_Tariff!A:A,0)),Raeburn_Main_Tariff[[#This Row],[PRODUCER]]) -> Henri Billiot | C30: Champagne Julie (cask aged - shipped 2011) | D30: sp | E30: nv | F30: 75 | G30: 48.5 | I30: 11BILLIOT21 | J30: France | K30: Champagne | L30: Ambonnay | O30: 6 | P30: 13
A31: Henri Billiot | B31: =HYPERLINK(IFERROR("#Main_Tariff!A"&MATCH(Raeburn_Main_Tariff[[#This Row],[Product Code]],Main_Tariff!I:I,0),"#Main_Tariff!A"&MATCH("*"&RIGHT(A31,8)&"*",Main_Tariff!A:A,0)),Raeburn_Main_Tariff[[#This Row],[PRODUCER]]) -> Henri Billiot | C31: Champagne Laetitia (solera - shipped 2022) | D31: sp | E31: mv | F31: 75 | G31: 48.5 | I31: 22BILLI03 | J31: France | K31: Champagne | L31: Ambonnay | O31: 6 | P31: 12.5
A32: Henri Billiot | B32: =HYPERLINK(IFERROR("#Main_Tariff!A"&MATCH(Raeburn_Main_Tariff[[#This Row],[Product Code]],Main_Tariff!I:I,0),"#Main_Tariff!A"&MATCH("*"&RIGHT(A32,8)&"*",Main_Tariff!A:A,0)),Raeburn_Main_Tariff[[#This Row],[PRODUCER]]) -> Henri Billiot | C32: Champagne Essence de Billiot | D32: sp | E32: 2014 | F32: 75 | G32: 100 | I32: 22BILLI04 | J32: France | K32: Champagne | L32: Ambonnay | O32: 1 | P32: 12.5
A33: Benoit Dehu | B33: =HYPERLINK(IFERROR("#Main_Tariff!A"&MATCH(Raeburn_Main_Tariff[[#This Row],[Product Code]],Main_Tariff!I:I,0),"#Main_Tariff!A"&MATCH("*"&RIGHT(A33,8)&"*",Main_Tariff!A:A,0)),Raeburn_Main_Tariff[[#This Row],[PRODUCER]]) -> Benoit Dehu | C33: Champagne Initiation brut rosé | D33: sp.p | E33: L.19 | F33: 75 | G33: 44.5 | H33: <24 | I33: 21BDEHU06 | J33: France | K33: Champagne | O33: 6 | P33: 12
A34: Benoit Dehu | B34: =HYPERLINK(IFERROR("#Main_Tariff!A"&MATCH(Raeburn_Main_Tariff[[#This Row],[Product Code]],Main_Tariff!I:I,0),"#Main_Tariff!A"&MATCH("*"&RIGHT(A34,8)&"*",Main_Tariff!A:A,0)),Raeburn_Main_Tariff[[#This Row],[PRODUCER]]) -> Benoit Dehu | C34: Champagne La Rue des Noyers rosé de saignée | D34: sp.p | E34: L.19 | F34: 75 | G34: 67 | H34: <24 | I34: 21BDEHU05 | J34: France | K34: Champagne | N34: Organic | O34: 6 | P34: 12
A35: Benoit Dehu | B35: =HYPERLINK(IFERROR("#Main_Tariff!A"&MATCH(Raeburn_Main_Tariff[[#This Row],[Product Code]],Main_Tariff!I:I,0),"#Main_Tariff!A"&MATCH("*"&RIGHT(A35,8)&"*",Main_Tariff!A:A,0)),Raeburn_Main_Tariff[[#This Row],[PRODUCER]]) -> Benoit Dehu | C35: Champagne La Rue des Noyers rosé de saignée | D35: sp.p | E35: L.18 | F35: 75 | G35: 66 | I35: 20BDEHU04 | J35: France | K35: Champagne | N35: Organic | O35: 6 | P35: 12
A36: Benoit Dehu | B36: =HYPERLINK(IFERROR("#Main_Tariff!A"&MATCH(Raeburn_Main_Tariff[[#This Row],[Product Code]],Main_Tariff!I:I,0),"#Main_Tariff!A"&MATCH("*"&RIGHT(A36,8)&"*",Main_Tariff!A:A,0)),Raeburn_Main_Tariff[[#This Row],[PRODUCER]]) -> Benoit Dehu | C36: Champagne Initiation brut | D36: sp | E36: L.18 | F36: 75 | G36: 40.5 | I36: 21BDEHU04 | J36: France | K36: Champagne | O36: 6 | P36: 12
A37: Benoit Dehu | B37: =HYPERLINK(IFERROR("#Main_Tariff!A"&MATCH(Raeburn_Main_Tariff[[#This Row],[Product Code]],Main_Tariff!I:I,0),"#Main_Tariff!A"&MATCH("*"&RIGHT(A37,8)&"*",Main_Tariff!A:A,0)),Raeburn_Main_Tariff[[#This Row],[PRODUCER]]) -> Benoit Dehu | C37: Champagne Initiation brut | D37: sp | E37: L.17 | F37: 75 | G37: 39.5 | H37: <24 | I37: 20BDEHU03 | J37: France | K37: Champagne | O37: 6 | P37: 12
A38: Benoit Dehu | B38: =HYPERLINK(IFERROR("#Main_Tariff!A"&MATCH(Raeburn_Main_Tariff[[#This Row],[Product Code]],Main_Tariff!I:I,0),"#Main_Tariff!A"&MATCH("*"&RIGHT(A38,8)&"*",Main_Tariff!A:A,0)),Raeburn_Main_Tariff[[#This Row],[PRODUCER]]) -> Benoit Dehu | C38: Champagne La Rue des Noyers extra brut | D38: sp | E38: L.16 | F38: 75 | G38: 53 | I38: 21BDEHU01 | J38: France | K38: Champagne | N38: Organic | O38: 6 | P38: 12
A39: Benoit Dehu | B39: =HYPERLINK(IFERROR("#Main_Tariff!A"&MATCH(Raeburn_Main_Tariff[[#This Row],[Product Code]],Main_Tariff!I:I,0),"#Main_Tariff!A"&MATCH("*"&RIGHT(A39,8)&"*",Main_Tariff!A:A,0)),Raeburn_Main_Tariff[[#This Row],[PRODUCER]]) -> Benoit Dehu | C39: Champagne La Rue des Noyers extra brut | D39: sp | E39: L.15 | F39: 75 | G39: 52 | I39: 20BDEHU01 | J39: France | K39: Champagne | N39: Organic | O39: 6 | P39: 12
A40: Benoit Dehu | B40: =HYPERLINK(IFERROR("#Main_Tariff!A"&MATCH(Raeburn_Main_Tariff[[#This Row],[Product Code]],Main_Tariff!I:I,0),"#Main_Tariff!A"&MATCH("*"&RIGHT(A40,8)&"*",Main_Tariff!A:A,0)),Raeburn_Main_Tariff[[#This Row],[PRODUCER]]) -> Benoit Dehu | C40: Champagne La Rue des Noyers extra brut | D40: sp | E40: L.14 | F40: 75 | G40: 51 | H40: VAULTS <24 | I40: 18BDEHU01TB | J40: France | K40: Champagne | N40: Organic | O40: 6 | P40: 12
...
